Workbook

Sheet KVS
A2: Fejezet szöveg / Tételsorszám | B2: Tételszámok | C2: Tételszövegek | D2: Mennyiség | E2: Mértékegység | G2: Egységárak | H2: Anyagár | I2: Munkadíj | J2: Gépköltség
A4: Bontási munkák
C6: Menetes szerelvény leszerelése
A7: 1 | B7: 82-000-111-000-00-00000 | C7: 2 " átmérőig | D7: =ROUND( 3,2 ) -> 3 | E7: db | F7: A.: | G7: 0 | H7: =ROUND( D$7*G7,2 ) -> 0
F8: D.: | G8: 0 | I8: =ROUND( D$7*G8,0 ) -> 0
F9: G.: | G9: 0 | J9: =ROUND( D$7*G9,2 ) -> 0
C12: Radiátor szelep
C13: és egyéb szerelvény leszerelése
A14: 2 | B14: 82-000-131-000-00-00000 | D14: =ROUND( 6,2 ) -> 6 | E14: db | F14: A.: | G14: 0 | H14: =ROUND( D$14*G14,2 ) -> 0
F15: D.: | G15: 0 | I15: =ROUND( D$14*G15,0 ) -> 0
F16: G.: | G16: 0 | J16: =ROUND( D$14*G16,2 ) -> 0
C19: Gázüzemű lakásfűtő berendezés leszerelése
A20: 3 | B20: 82-000-321-000-00-00000 | D20: =ROUND( 1,2 ) -> 1 | E20: db | F20: A.: | G20: 0 | H20: =ROUND( D$20*G20,2 ) -> 0
F21: D.: | G21: 0 | I21: =ROUND( D$20*G21,0 ) -> 0
F22: G.: | G22: 0 | J22: =ROUND( D$20*G22,2 ) -> 0
H25: =ROUND( SUM(H5:H24),2 ) -> 0 | I25: =ROUND( SUM(I5:I24),0 ) -> 0 | J25: =ROUND( SUM(J5:J24),2 ) -> 0
A26: Gáz szerelés
C28: Golyóscsap, teljes átömlésű,
C29: sárgarézből, nikkelezett kivitelben, felszerelve,
C30: EFFEBI-Venus típusú, gázra - PN 10, 60°C-ig
C31: 1022 fogantyúval, egyenes kivitelben, külső-belső menetes
A32: 1 | B32: 82-121-203-003-34-37123 | C32: 3/4" | D32: =ROUND( 1,2 ) -> 1 | E32: db | F32: A.: | G32: 0 | H32: =ROUND( D$32*G32,0 ) -> 0
F33: D.: | G33: 0 | I33: =ROUND( D$32*G33,0 ) -> 0
F34: G.: | G34: 0 | J34: =ROUND( D$32*G34,2 ) -> 0
C37: Gázvezetéki flexicső,
C38: gázüzemű berendezési tárgyak bekötéséhez,
C39: rozsdamentesvédőbevonattal, sárgaréz
C40: krómozott csatlakozó idomokkal, felszerelve,
C41: SICURFLEX típusú, átm. 13 mm, belső menetes - belső menetes csatlakozással,
C42: 3/4" - 3/4"
A43: 2 | B43: 82-252-323-006-49-45223 | C43: 40 cm hosszúsággal | D43: =ROUND( 1,2 ) -> 1 | E43: db | F43: A.: | G43: 0 | H43: =ROUND( D$43*G43,0 ) -> 0
F44: D.: | G44: 0 | I44: =ROUND( D$43*G44,0 ) -> 0
F45: G.: | G45: 0 | J45: =ROUND( D$43*G45,2 ) -> 0
C48: Kondenzációs fali gázkazán
C49: elektromos gyújtással, ionizációs lángőrzéssel,
C50: előkeveréses gázégővel, égőautomatikával,
C51: keringtető szivattyúval, többfunkciós kijelzővel,
C52: felszerelve és bekötve
C53: (de az elektromos bekötés nélkül),
C54: WESTEN Pulsar Condens + típusú,
...

Sheet FOOSSZ
A1: Megrendelő:
A2: neve: | B2: Köröstarcsa Község Önkorményzata
A3: címe: | B3: 5622 Köröstarcsa, Kossuth tér 7.
A5: Munka megnevezése:
B6: Szolgálati Lakás épületgépészeti munkái
B7: 5622 Köröstarcsa, Dübögő u. 9/c
A11: KÖLTSÉGVETÉSI ÖSSZESÍTŐ
B12: készült
A14: A KONTROLL Kft. Költségvetés Készítő Rendszerével
A15: HunÁr felújítási/kisvállakozói normák alapján,
A16: 2018. január 1-i árszinten
A19: Fejezet címe | C19: Anyag | D19: Díj
A21: Bontási munkák | C21: =SUM(KVS!H25) -> 0 | D21: =SUM(KVS!I25,KVS!J25) -> 0
A22: Gáz szerelés | C22: =SUM(KVS!H187) -> 0 | D22: =SUM(KVS!I187,KVS!J187) -> 0
A23: Fűtés szerelés | C23: =SUM(KVS!H288) -> 0 | D23: =SUM(KVS!I288,KVS!J288) -> 0
A24: Víz-szennyvíz szerelés | C24: =SUM(KVS!H349) -> 0 | D24: =SUM(KVS!I349,KVS!J349) -> 0
A26: Összesítések
A28: Alapösszeg összesen: | C28: =SUM(C21:C25) -> 0 | D28: =SUM(D21:D25) -> 0
A30: Nettó összesen: | C30: =C28+D28 -> 0
A32: ÁFA: | B32: 0.27 | C32: =IF( B32>1,C30*B32/100,C30*B32) -> 0
A35: Bruttó összesen: | C35: =C32+C30 -> 0

Sheet Munka3
