Workbook

Sheet KVS
A2: Fejezet szöveg / Tételsorszám | B2: Tételszámok | C2: Tételszövegek | D2: Mennyiség | E2: Mértékegység | G2: Egységárak | H2: Anyagár | I2: Munkadíj | J2: Gépköltség
A4: Bontási munkák
C6: Menetes szerelvény leszerelése
A7: 1 | B7: 82-000-111-000-00-00000 | C7: 2 " átmérőig | D7: =ROUND( 3,2 ) -> 3 | E7: db | F7: A.: | G7: 0 | H7: =ROUND( D$7*G7,2 ) -> 0
F8: D.: | G8: 0 | I8: =ROUND( D$7*G8,0 ) -> 0
F9: G.: | G9: 0 | J9: =ROUND( D$7*G9,2 ) -> 0
C12: Radiátor szelep
C13: és egyéb szerelvény leszerelése
A14: 2 | B14: 82-000-131-000-00-00000 | D14: =ROUND( 6,2 ) -> 6 | E14: db | F14: A.: | G14: 0 | H14: =ROUND( D$14*G14,2 ) -> 0
F15: D.: | G15: 0 | I15: =ROUND( D$14*G15,0 ) -> 0
F16: G.: | G16: 0 | J16: =ROUND( D$14*G16,2 ) -> 0
C19: Gázüzemű lakásfűtő berendezés leszerelése
A20: 3 | B20: 82-000-321-000-00-00000 | D20: =ROUND( 1,2 ) -> 1 | E20: db | F20: A.: | G20: 0 | H20: =ROUND( D$20*G20,2 ) -> 0
F21: D.: | G21: 0 | I21: =ROUND( D$20*G21,0 ) -> 0
F22: G.: | G22: 0 | J22: =ROUND( D$20*G22,2 ) -> 0
H25: =ROUND( SUM(H5:H24),2 ) -> 0 | I25: =ROUND( SUM(I5:I24),0 ) -> 0 | J25: =ROUND( SUM(J5:J24),2 ) -> 0
A26: Gáz szerelés
C28: Golyóscsap, teljes átömlésű,
C29: sárgarézből, nikkelezett kivitelben, felszerelve,
C30: EFFEBI-Venus típusú, gázra - PN 10, 60°C-ig
C31: 1022 fogantyúval, egyenes kivitelben, külső-belső menetes
A32: 1 | B32: 82-121-203-003-34-37123 | C32: 3/4" | D32: =ROUND( 1,2 ) -> 1 | E32: db | F32: A.: | G32: 0 | H32: =ROUND( D$32*G32,0 ) -> 0
F33: D.: | G33: 0 | I33: =ROUND( D$32*G33,0 ) -> 0
F34: G.: | G34: 0 | J34: =ROUND( D$32*G34,2 ) -> 0
C37: Gázvezetéki flexicső,
C38: gázüzemű berendezési tárgyak bekötéséhez,
C39: rozsdamentesvédőbevonattal, sárgaréz
C40: krómozott csatlakozó idomokkal, felszerelve,
C41: SICURFLEX típusú, átm. 13 mm, belső menetes - belső menetes csatlakozással,
C42: 3/4" - 3/4"
A43: 2 | B43: 82-252-323-006-49-45223 | C43: 40 cm hosszúsággal | D43: =ROUND( 1,2 ) -> 1 | E43: db | F43: A.: | G43: 0 | H43: =ROUND( D$43*G43,0 ) -> 0
F44: D.: | G44: 0 | I44: =ROUND( D$43*G44,0 ) -> 0
F45: G.: | G45: 0 | J45: =ROUND( D$43*G45,2 ) -> 0
C48: Kondenzációs fali gázkazán
C49: elektromos gyújtással, ionizációs lángőrzéssel,
C50: előkeveréses gázégővel, égőautomatikával,
C51: keringtető szivattyúval, többfunkciós kijelzővel,
C52: felszerelve és bekötve
C53: (de az elektromos bekötés nélkül),
C54: WESTEN Pulsar Condens + típusú,
C55: kombi falikazán
A56: 3 | B56: 82-332-622-022-32-34222 | C56: 24,0 kW telj. | D56: =ROUND( 1,2 ) -> 1 | E56: db | F56: A.: | G56: 0 | H56: =ROUND( D$56*G56,0 ) -> 0
F57: D.: | G57: 0 | I57: =ROUND( D$56*G57,0 ) -> 0
F58: G.: | G58: 0 | J58: =ROUND( D$56*G58,2 ) -> 0
C61: Ötvözött alumínium kéményelemek,
C62: zárt égésterű kazánok égéstermék elvezetésére,
C63: tokos, gumigyűrűs kötésekkel, meglévő vagy új
C64: építésű téglakéményekbe szerelve,
C65: (szerelőkőműves munkák külön tételben történő
C66: költségelésével),
C67: TRICOX forgalmazású,
C68: mérőpont idom, PPs/alu
A69: 4 | B69: 86-607-021-060-21-11321 | C69: átm. 60/100 mm PAMP50C | D69: =ROUND( 1,2 ) -> 1 | E69: db | F69: A.: | G69: 0 | H69: =ROUND( D$69*G69,0 ) -> 0
F70: D.: | G70: 0 | I70: =ROUND( D$69*G70,0 ) -> 0
F71: G.: | G71: 0 | J71: =ROUND( D$69*G71,2 ) -> 0
C74: Ötvözött alumínium kéményelemek,
C75: zárt égésterű kazánok égéstermék elvezetésére,
C76: tokos, gumigyűrűs kötésekkel, meglévő vagy új
C77: építésű téglakéményekbe szerelve,
C78: (szerelőkőműves munkák külön tételben történő
C79: költségelésével),
C80: TRICOX forgalmazású,
C81: ellenőrző egyenes idom, PPs/alu
A82: 5 | B82: 86-607-021-060-21-11311 | C82: átm. 60/100 mm PAEE50C | D82: =ROUND( 1,2 ) -> 1 | E82: db | F82: A.: | G82: 0 | H82: =ROUND( D$82*G82,0 ) -> 0
F83: D.: | G83: 0 | I83: =ROUND( D$82*G83,0 ) -> 0
F84: G.: | G84: 0 | J84: =ROUND( D$82*G84,2 ) -> 0
C87: Ötvözött alumínium kéményelemek,
C88: zárt égésterű kazánok égéstermék elvezetésére,
C89: tokos, gumigyűrűs kötésekkel, meglévő vagy új
C90: építésű téglakéményekbe szerelve,
C91: (szerelőkőműves munkák külön tételben történő
C92: költségelésével),
C93: TRICOX forgalmazású,
C94: egyenes csőelem, átm. 60/100 mm, PPs/alu
A95: 6 | B95: 86-601-021-062-21-11301 | C95: 500 mm hosszú PACS506C | D95: =ROUND( 1,2 ) -> 1 | E95: db | F95: A.: | G95: 0 | H95: =ROUND( D$95*G95,0 ) -> 0
F96: D.: | G96: 0 | I96: =ROUND( D$95*G96,0 ) -> 0
F97: G.: | G97: 0 | J97: =ROUND( D$95*G97,2 ) -> 0
C100: Ötvözött alumínium kéményelemek,
C101: zárt égésterű kazánok égéstermék elvezetésére,
C102: tokos, gumigyűrűs kötésekkel, meglévő vagy új
C103: építésű téglakéményekbe szerelve,
C104: (szerelőkőműves munkák külön tételben történő
C105: költségelésével),
C106: TRICOX forgalmazású,
C107: egyenes csőelem, átm. 60/100 mm, PPs/alu
A108: 7 | B108: 86-601-021-063-21-11301 | C108: 1000 mm hosszú PACS507C | D108: =ROUND( 2,2 ) -> 2 | E108: db | F108: A.: | G108: 0 | H108: =ROUND( D$108*G108,0 ) -> 0
F109: D.: | G109: 0 | I109: =ROUND( D$108*G109,0 ) -> 0
F110: G.: | G110: 0 | J110: =ROUND( D$108*G110,2 ) -> 0
C113: Ötvözött alumínium kéményelemek,
C114: zárt égésterű kazánok égéstermék elvezetésére,
C115: tokos, gumigyűrűs kötésekkel, meglévő vagy új
C116: építésű téglakéményekbe szerelve,
C117: (szerelőkőműves munkák külön tételben történő
C118: költségelésével),
C119: TRICOX forgalmazású,
C120: könyökidom, 87°-os, PPs/alu
A121: 8 | B121: 86-607-021-060-21-11316 | C121: átm. 60/100 mm PAKÖ501C | D121: =ROUND( 2,2 ) -> 2 | E121: db | F121: A.: | G121: 0 | H121: =ROUND( D$121*G121,0 ) -> 0
F122: D.: | G122: 0 | I122: =ROUND( D$121*G122,0 ) -> 0
F123: G.: | G123: 0 | J123: =ROUND( D$121*G123,2 ) -> 0
C126: Ötvözött alumínium kéményelemek,
...

Sheet FOOSSZ
A1: Megrendelő:
A2: neve: | B2: Köröstarcsa Község Önkorményzata
A3: címe: | B3: 5622 Köröstarcsa, Kossuth tér 7.
A5: Munka megnevezése:
B6: Szolgálati Lakás épületgépészeti munkái
B7: 5622 Köröstarcsa, Dübögő u. 9/c
A11: KÖLTSÉGVETÉSI ÖSSZESÍTŐ
B12: készült
A14: A KONTROLL Kft. Költségvetés Készítő Rendszerével
A15: HunÁr felújítási/kisvállakozói normák alapján,
A16: 2018. január 1-i árszinten
A19: Fejezet címe | C19: Anyag | D19: Díj
A21: Bontási munkák | C21: =SUM(KVS!H25) -> 0 | D21: =SUM(KVS!I25,KVS!J25) -> 0
A22: Gáz szerelés | C22: =SUM(KVS!H187) -> 0 | D22: =SUM(KVS!I187,KVS!J187) -> 0
A23: Fűtés szerelés | C23: =SUM(KVS!H288) -> 0 | D23: =SUM(KVS!I288,KVS!J288) -> 0
A24: Víz-szennyvíz szerelés | C24: =SUM(KVS!H349) -> 0 | D24: =SUM(KVS!I349,KVS!J349) -> 0
A26: Összesítések
A28: Alapösszeg összesen: | C28: =SUM(C21:C25) -> 0 | D28: =SUM(D21:D25) -> 0
A30: Nettó összesen: | C30: =C28+D28 -> 0
A32: ÁFA: | B32: 0.27 | C32: =IF( B32>1,C30*B32/100,C30*B32) -> 0
A35: Bruttó összesen: | C35: =C32+C30 -> 0

Sheet Munka3
